BEGIN:VCALENDAR
VERSION:2.0
CALSCALE:GREGORIAN
PRODID:-//Diputació de Barcelona//DibaCMS//EN
BEGIN:VEVENT
UID:1422
DTSTAMP:20260420T172156
DTSTART:20260814T000000
DTEND:20260815T000000
SUMMARY:Festa Major de Santa Maria de Merlès
LOCATION:
METHOD:PUBLISH
X-WR-CALNAME:st.m.merles@diba.cat
X-WR-TIMEZONE:Europe/Madrid
DESCRIPTION:
URI:https://www.santamariademerles.cat/actualitat/agenda/1422-festa-major-de-santa-maria-de-merles.html
CLASS:PUBLIC
END:VEVENT
END:VCALENDAR
